BEGIN:VCALENDAR
VERSION:2.0
PRODID:-//British Antarctic Survey - ECPv6.15.18//NONSGML v1.0//EN
CALSCALE:GREGORIAN
METHOD:PUBLISH
X-ORIGINAL-URL:https://www.bas.ac.uk
X-WR-CALDESC:Events for British Antarctic Survey
REFRESH-INTERVAL;VALUE=DURATION:PT1H
X-Robots-Tag:noindex
X-PUBLISHED-TTL:PT1H
BEGIN:VTIMEZONE
TZID:Europe/London
BEGIN:DAYLIGHT
TZOFFSETFROM:+0000
TZOFFSETTO:+0100
TZNAME:BST
DTSTART:20190331T010000
END:DAYLIGHT
BEGIN:STANDARD
TZOFFSETFROM:+0100
TZOFFSETTO:+0000
TZNAME:GMT
DTSTART:20191027T010000
END:STANDARD
BEGIN:DAYLIGHT
TZOFFSETFROM:+0000
TZOFFSETTO:+0100
TZNAME:BST
DTSTART:20200329T010000
END:DAYLIGHT
BEGIN:STANDARD
TZOFFSETFROM:+0100
TZOFFSETTO:+0000
TZNAME:GMT
DTSTART:20201025T010000
END:STANDARD
BEGIN:DAYLIGHT
TZOFFSETFROM:+0000
TZOFFSETTO:+0100
TZNAME:BST
DTSTART:20210328T010000
END:DAYLIGHT
BEGIN:STANDARD
TZOFFSETFROM:+0100
TZOFFSETTO:+0000
TZNAME:GMT
DTSTART:20211031T010000
END:STANDARD
END:VTIMEZONE
BEGIN:VEVENT
DTSTART;TZID=Europe/London:20200505T140000
DTEND;TZID=Europe/London:20200505T150000
DTSTAMP:20260421T075650
CREATED:20200501T130603Z
LAST-MODIFIED:20200501T140153Z
UID:136168-1588687200-1588690800@www.bas.ac.uk
SUMMARY:‘Emperor Penguin: Super Bird’ - Online Talk
DESCRIPTION:Homeschoolers and penguin fans! Join British Antarctic Survey penguin expert Dr Peter Fretwell this Tuesday 5 May at 2:00pm (UK time) for free online talk ‘Emperor Penguin: Super Bird’. \n \nPeter will be teaching us about the six ‘superpowers’ unique to emperor penguins that allow them to survive the harshest environment on earth. \nNo registration or download required\, just visit www.bas.ac.uk/LIVE at 2:00pm Tuesday 5 May to take part! \nThe talk will last approximately 30 minutes\, with an opportunity to send in questions via our live Q&A at www.bas.ac.uk/LIVE immediately after.
URL:https://www.bas.ac.uk/event/emperor-penguin-super-bird-live-online-talk/
CATEGORIES:Public engagement
ATTACH;FMTTYPE=image/jpeg:https://www.bas.ac.uk/wp-content/uploads/2020/05/Im-the-one-on-the-right-scaled.jpg
END:VEVENT
END:VCALENDAR