BEGIN:VCALENDAR
VERSION:2.0
PRODID:-//British Antarctic Survey - ECPv6.15.18//NONSGML v1.0//EN
CALSCALE:GREGORIAN
METHOD:PUBLISH
X-ORIGINAL-URL:https://www.bas.ac.uk
X-WR-CALDESC:Events for British Antarctic Survey
REFRESH-INTERVAL;VALUE=DURATION:PT1H
X-Robots-Tag:noindex
X-PUBLISHED-TTL:PT1H
BEGIN:VTIMEZONE
TZID:Europe/London
BEGIN:DAYLIGHT
TZOFFSETFROM:+0000
TZOFFSETTO:+0100
TZNAME:BST
DTSTART:20190331T010000
END:DAYLIGHT
BEGIN:STANDARD
TZOFFSETFROM:+0100
TZOFFSETTO:+0000
TZNAME:GMT
DTSTART:20191027T010000
END:STANDARD
BEGIN:DAYLIGHT
TZOFFSETFROM:+0000
TZOFFSETTO:+0100
TZNAME:BST
DTSTART:20200329T010000
END:DAYLIGHT
BEGIN:STANDARD
TZOFFSETFROM:+0100
TZOFFSETTO:+0000
TZNAME:GMT
DTSTART:20201025T010000
END:STANDARD
BEGIN:DAYLIGHT
TZOFFSETFROM:+0000
TZOFFSETTO:+0100
TZNAME:BST
DTSTART:20210328T010000
END:DAYLIGHT
BEGIN:STANDARD
TZOFFSETFROM:+0100
TZOFFSETTO:+0000
TZNAME:GMT
DTSTART:20211031T010000
END:STANDARD
END:VTIMEZONE
BEGIN:VEVENT
DTSTART;TZID=Europe/London:20201102T153000
DTEND;TZID=Europe/London:20201102T163000
DTSTAMP:20260423T092227
CREATED:20201022T213236Z
LAST-MODIFIED:20201023T144656Z
UID:138755-1604331000-1604334600@www.bas.ac.uk
SUMMARY:Knowledge Snack webinar: The challenge of decarbonising energy systems in remote areas
DESCRIPTION:Join us for this Knowledge Snack webinar with Cardiff University Professor Liana M. Cipcigan and BAS Energy and Carbon Reduction Manager Parthena (Nopi) Exizidou\, Monday 2nd of November\, 15:30-16:30 on Zoom. \nPlease register for this free event on our Eventbrite page.\nThis Knowledge Snack will give an introduction to the BAS Net Zero Carbon Strategy focusing on the opportunities and challenges of decarbonisation\, and the importance of developing industry and academia collaborations to facilitate the low carbon transition. Liana will give us an insight into her work within the Decarbonising Transport through Electrification Network+\, and our collaborative projects on decarbonisation of transport through electrification in a whole system approach. \n15:30 Parthena (Nopi) Exizidou—BAS Net Zero Carbon Strategy and the importance of developing industry and academia collaborations \n15:40 Liana M. Cipcigan—Decarbonisation of transport through electrification in a whole system approach \n15:55 Cardiff Student projects—Energy Provision for Antarctic Infrastructure \n16:00 Q&A and discussion \nFollowing the Q&A session\, there will be an opportunity to continue the conversation on a zoom call—the Zoom details will be shared at the webinar. \nSpeaker biographies:\nParthena (Nopi) Exizidou is the Energy and Carbon Reduction Manager at the British Antarctic Survey (BAS) since 2017. Her role focuses on driving the low carbon transition for all areas of BAS operations. Currently she is leading on the development of the Net Zero Carbon strategy for BAS with a focus on Infrastructure\, Transport & Logistics and Supply Chain. She is an engineer by background with several years of experience in research projects on energy efficiency in the built environment. \n  \nLiana M. Cipcigan is a Professor at Cardiff University’s School of Engineering leading Sustainable Transport cross-cutting theme and Director of the Electric Vehicle Centre of Excellence. She was at the forefront of the shift to electrified transport for over a decade being recognised nationally and internationally as an expert in Electric Vehicles and Smart Grids leading the £1M project “Decarbonising Transport through Electrification (DTE)”. She has collaborated widely with industry\, more recently during her secondment at National Grid under Royal Academy of Engineering Industrial Fellowship\, working in the Energy Insights department responsible for the Future Energy Scenarios. She has held as PI and Co-I grants in the excess of £6.5M from EPSRC\, Royal Academy of Engineering\, Innovate UK\, UKERC\, Welsh European Funding Office\, EU FP7/H2020 and industry.  She is a member of BSI technical committee ESL/120 Electrical Energy Storage\, European IEC/TC120/WG1 Electrical Energy Storage and Wales Smart Energy System Group. \nShe gave evidence to Economy\, Infrastructure and Skills Committee “EV charging in Wales” at Welsh Assembly (2018) and to Committee on Climate Change as a member of the “Reducing emissions from transport” panel in open meeting\, November 2019. \nRegister here\nIf you have any questions about the event or concerns about accessibility\, please contact the event organisers via email.
URL:https://www.bas.ac.uk/event/the-challenge-of-decarbonising-energy-systems-in-remote-areas/
LOCATION:Zoom
CATEGORIES:Seminar
ATTACH;FMTTYPE=image/jpeg:https://www.bas.ac.uk/wp-content/uploads/2017/01/Mobilisation-Bird-Island-011-736x552.jpg
END:VEVENT
END:VCALENDAR