BEGIN:VCALENDAR
VERSION:2.0
PRODID:-//British Antarctic Survey - ECPv6.15.18//NONSGML v1.0//EN
CALSCALE:GREGORIAN
METHOD:PUBLISH
X-WR-CALNAME:British Antarctic Survey
X-ORIGINAL-URL:https://www.bas.ac.uk
X-WR-CALDESC:Events for British Antarctic Survey
REFRESH-INTERVAL;VALUE=DURATION:PT1H
X-Robots-Tag:noindex
X-PUBLISHED-TTL:PT1H
BEGIN:VTIMEZONE
TZID:Europe/London
BEGIN:DAYLIGHT
TZOFFSETFROM:+0000
TZOFFSETTO:+0100
TZNAME:BST
DTSTART:20200329T010000
END:DAYLIGHT
BEGIN:STANDARD
TZOFFSETFROM:+0100
TZOFFSETTO:+0000
TZNAME:GMT
DTSTART:20201025T010000
END:STANDARD
BEGIN:DAYLIGHT
TZOFFSETFROM:+0000
TZOFFSETTO:+0100
TZNAME:BST
DTSTART:20210328T010000
END:DAYLIGHT
BEGIN:STANDARD
TZOFFSETFROM:+0100
TZOFFSETTO:+0000
TZNAME:GMT
DTSTART:20211031T010000
END:STANDARD
BEGIN:DAYLIGHT
TZOFFSETFROM:+0000
TZOFFSETTO:+0100
TZNAME:BST
DTSTART:20220327T010000
END:DAYLIGHT
BEGIN:STANDARD
TZOFFSETFROM:+0100
TZOFFSETTO:+0000
TZNAME:GMT
DTSTART:20221030T010000
END:STANDARD
END:VTIMEZONE
BEGIN:VEVENT
DTSTART;TZID=Europe/London:20211127T100000
DTEND;TZID=Europe/London:20211127T170000
DTSTAMP:20260419T162028
CREATED:20211122T130653Z
LAST-MODIFIED:20211126T112344Z
UID:147529-1638007200-1638032400@www.bas.ac.uk
SUMMARY:Climate Code showcase in collaboration with Cambridge Science Centre
DESCRIPTION:The Climate Code shirt will be showcased at the Grand Arcade on November 27th from 10am to 5pm as part of a Cambridge Science Centre event. We want to invite families to hear more about the science behind the design and our understanding of manmade climate change. Visit our stall at the Grand Arcade and bring your young ones to design their own climate change inspired shirt! \nYou will find us opposite Ed’s Diner on the First Floor of the Grand Arcade in Cambridge. The Cambridge Science Centre is running this pop-up science space throughout November and December. Each day they will be offering a range of exciting and interactive stem-based\, take-home activities suitable for children to do on their own or with a little adult help. Activities will be based on different areas of science\, technology\, engineering or mathematics\, or STEM. We’d love to see you there! \nThe Climate Code shirt features two main datasets – the warming stripes of the shirt fabric represent the last 70 years of temperature records from the Arctic\, with details providing the backdrop of 800\,000 years of Antarctic temperature and CO2-data. The innovative design brings together the dynamic story of the past and the worrying trends of the present in a novel visualisation that aims to inspire climate action. Read more about the Climate Code shirt. \nBAS Driector of Innovation and Impact Beatrix Schlarb-Ridley wearing the first sample of the Climate Code shirt
URL:https://www.bas.ac.uk/event/climate-code-showcase/
LOCATION:Grand Arcade\, St Andrew's St\, Cambridge\, Cambridgeshire\, CB2 3BJ\, United Kingdom
CATEGORIES:Public engagement
ATTACH;FMTTYPE=image/png:https://www.bas.ac.uk/wp-content/uploads/2021/06/MicrosoftTeams-image-4.png
END:VEVENT
END:VCALENDAR