BEGIN:VCALENDAR
VERSION:2.0
PRODID:-//British Antarctic Survey - ECPv6.15.18//NONSGML v1.0//EN
CALSCALE:GREGORIAN
METHOD:PUBLISH
X-WR-CALNAME:British Antarctic Survey
X-ORIGINAL-URL:https://www.bas.ac.uk
X-WR-CALDESC:Events for British Antarctic Survey
REFRESH-INTERVAL;VALUE=DURATION:PT1H
X-Robots-Tag:noindex
X-PUBLISHED-TTL:PT1H
BEGIN:VTIMEZONE
TZID:Europe/London
BEGIN:DAYLIGHT
TZOFFSETFROM:+0000
TZOFFSETTO:+0100
TZNAME:BST
DTSTART:20200329T010000
END:DAYLIGHT
BEGIN:STANDARD
TZOFFSETFROM:+0100
TZOFFSETTO:+0000
TZNAME:GMT
DTSTART:20201025T010000
END:STANDARD
BEGIN:DAYLIGHT
TZOFFSETFROM:+0000
TZOFFSETTO:+0100
TZNAME:BST
DTSTART:20210328T010000
END:DAYLIGHT
BEGIN:STANDARD
TZOFFSETFROM:+0100
TZOFFSETTO:+0000
TZNAME:GMT
DTSTART:20211031T010000
END:STANDARD
BEGIN:DAYLIGHT
TZOFFSETFROM:+0000
TZOFFSETTO:+0100
TZNAME:BST
DTSTART:20220327T010000
END:DAYLIGHT
BEGIN:STANDARD
TZOFFSETFROM:+0100
TZOFFSETTO:+0000
TZNAME:GMT
DTSTART:20221030T010000
END:STANDARD
END:VTIMEZONE
BEGIN:VEVENT
DTSTART;VALUE=DATE:20210710
DTEND;VALUE=DATE:20210711
DTSTAMP:20260421T214517
CREATED:20210701T132705Z
LAST-MODIFIED:20210701T132705Z
UID:143742-1625875200-1625961599@www.bas.ac.uk
SUMMARY:Be Curious Festival: LIVE from the Space Shed
DESCRIPTION:Get ready to BLAST OFF with University of Leeds at #BeCurious21 on Saturday 10 July! \n \nBroadcasting live all day with the Unlimited Space Agency\, the event includes an interview (10:20am) with Professor Dame Jane Francis\, Director of the British Antarctic Survey\, and Bryony Freer\, SENSE CDT PhD candidate at the British Antarctic Survey and University of Leeds\, who is studying Antarctic ice shelf grounding lines from space! \nTake a look at the full agenda and register for free at https://becuriousxunlimitedspaceagency.eventbrite.co.uk
URL:https://www.bas.ac.uk/event/be-curious-festival-live-from-the-space-shed/
LOCATION:Online
CATEGORIES:Public engagement
ATTACH;FMTTYPE=image/jpeg:https://www.bas.ac.uk/wp-content/uploads/2021/02/Ryder-Bay-view-from-old-Rothera-Wharf.jpg
END:VEVENT
END:VCALENDAR