BEGIN:VCALENDAR
VERSION:2.0
PRODID:-//British Antarctic Survey - ECPv6.15.18//NONSGML v1.0//EN
CALSCALE:GREGORIAN
METHOD:PUBLISH
X-ORIGINAL-URL:https://www.bas.ac.uk
X-WR-CALDESC:Events for British Antarctic Survey
REFRESH-INTERVAL;VALUE=DURATION:PT1H
X-Robots-Tag:noindex
X-PUBLISHED-TTL:PT1H
BEGIN:VTIMEZONE
TZID:Europe/London
BEGIN:DAYLIGHT
TZOFFSETFROM:+0000
TZOFFSETTO:+0100
TZNAME:BST
DTSTART:20190331T010000
END:DAYLIGHT
BEGIN:STANDARD
TZOFFSETFROM:+0100
TZOFFSETTO:+0000
TZNAME:GMT
DTSTART:20191027T010000
END:STANDARD
BEGIN:DAYLIGHT
TZOFFSETFROM:+0000
TZOFFSETTO:+0100
TZNAME:BST
DTSTART:20200329T010000
END:DAYLIGHT
BEGIN:STANDARD
TZOFFSETFROM:+0100
TZOFFSETTO:+0000
TZNAME:GMT
DTSTART:20201025T010000
END:STANDARD
BEGIN:DAYLIGHT
TZOFFSETFROM:+0000
TZOFFSETTO:+0100
TZNAME:BST
DTSTART:20210328T010000
END:DAYLIGHT
BEGIN:STANDARD
TZOFFSETFROM:+0100
TZOFFSETTO:+0000
TZNAME:GMT
DTSTART:20211031T010000
END:STANDARD
END:VTIMEZONE
BEGIN:VEVENT
DTSTART;TZID=Europe/London:20200205T140000
DTEND;TZID=Europe/London:20200205T170000
DTSTAMP:20260423T120221
CREATED:20191212T180401Z
LAST-MODIFIED:20200205T131829Z
UID:132877-1580911200-1580922000@www.bas.ac.uk
SUMMARY:BAS AURORA Presents: Satuccino Extra Shot - Satellite applications event
DESCRIPTION:Join us at the February 2020 Satuccino: Extra Shot in Cambridge\, hosted by the British Antarctic Survey’s (BAS) AURORA Innovation Centre. \nWe have an exciting programme for you including networking\, pitches\, and a video link with the main Satuccino event in Harwell. \nAgenda\n \n14:15 Registration open \n14:45 Welcome by Satuccino host \n14:50 Link up between both venues 60 second updates & Company pitches from Harwell \n\nThree Catapult update speakers\nUp to 5 Company Pitches from Harwell\n\n15:00 60 second updates & Company pitches from BAS \n15:05 Closing remarks from Harwell \nBack to individual Events \n15:10 BAS internal Programme \n– OceanMind: Fisheries Analyst\, Tia Hobson: “Empowering Fisheries compliance”\n– UK Centre for Earth Observation Instrumentation: Mick Johnson\,\n– British Antarctic Survey: Marine Mammal Scientist\, Hannah Cubaynes: “Wildlife from space: opportunities and challenges for whales”\n– Cambridge Zero: Erik Mackie\, “Remote sensing global sea-level rise” \n16:10 Networking\n \nConfirmed agenda and speaker abstracts to follow in January. \nThis event is free\, but registration is essential as space is limited. Registration for this event is open: please register here! \nFor any questions regarding this event or early registration. please contact Pilvi Muschitiello at pilchi@bas.ac.uk. \n  \nAccessibility information: \nThe BAS Aurora Innovation Centre\, where this event is held\, has two accessible parking bays right outside its main entrance. There is step-free access to the building\, and the public areas of the building are wheelchair accessible. There are also wheelchair accessible toilets on both floors\, and a lift to access all floors. For any other queries or more specific accessibility information please contact us at information@bas.ac.uk.
URL:https://www.bas.ac.uk/event/basaurora-presents-satuccino-extra-shot-satellite-applications-event/
LOCATION:Aurora Cambridge\, High Cross\, Madingley Road\, Cambridge\, CB3 OET
CATEGORIES:Seminar
ATTACH;FMTTYPE=image/jpeg:https://www.bas.ac.uk/wp-content/uploads/2018/10/Space_debris_highlight_std.jpg
END:VEVENT
END:VCALENDAR