BEGIN:VCALENDAR
VERSION:2.0
PRODID:-//British Antarctic Survey - ECPv6.15.18//NONSGML v1.0//EN
CALSCALE:GREGORIAN
METHOD:PUBLISH
X-ORIGINAL-URL:https://www.bas.ac.uk
X-WR-CALDESC:Events for British Antarctic Survey
REFRESH-INTERVAL;VALUE=DURATION:PT1H
X-Robots-Tag:noindex
X-PUBLISHED-TTL:PT1H
BEGIN:VTIMEZONE
TZID:Europe/London
BEGIN:DAYLIGHT
TZOFFSETFROM:+0000
TZOFFSETTO:+0100
TZNAME:BST
DTSTART:20200329T010000
END:DAYLIGHT
BEGIN:STANDARD
TZOFFSETFROM:+0100
TZOFFSETTO:+0000
TZNAME:GMT
DTSTART:20201025T010000
END:STANDARD
BEGIN:DAYLIGHT
TZOFFSETFROM:+0000
TZOFFSETTO:+0100
TZNAME:BST
DTSTART:20210328T010000
END:DAYLIGHT
BEGIN:STANDARD
TZOFFSETFROM:+0100
TZOFFSETTO:+0000
TZNAME:GMT
DTSTART:20211031T010000
END:STANDARD
BEGIN:DAYLIGHT
TZOFFSETFROM:+0000
TZOFFSETTO:+0100
TZNAME:BST
DTSTART:20220327T010000
END:DAYLIGHT
BEGIN:STANDARD
TZOFFSETFROM:+0100
TZOFFSETTO:+0000
TZNAME:GMT
DTSTART:20221030T010000
END:STANDARD
END:VTIMEZONE
BEGIN:VEVENT
DTSTART;TZID=Europe/London:20210413T080000
DTEND;TZID=Europe/London:20210415T170000
DTSTAMP:20260422T112952
CREATED:20210216T164004Z
LAST-MODIFIED:20210316T140720Z
UID:140808-1618300800-1618506000@www.bas.ac.uk
SUMMARY:5th International ANGWIN workshop
DESCRIPTION:Workshop focus: Atmospheric gravity wave dynamics and coupling in the polar regions: observations and modelling \nANGWIN (Antarctic Gravity Wave Instrument Network) is an action group of the Scientific Committee of Antarctic Research (SCAR) that utilizes a network of instrumentation operated at several international research stations around Antarctica with the primary research goal of quantifying and understanding the dominant sources\, propagation\, and impact of such dynamical processes on a continental-wide scale. \nThis online workshop invites presentations on new ground-based or satellite observational studies\, numerical modelling studies or theoretical studies of Arctic or Antarctic gravity wave sources\, propagation\, instabilities\, and their effects on local\, regional\, and global scales in any region of the atmosphere. \nWe aim to have a mix of recorded & live talks at 2 different times (to capture as many different time zones as possible) and virtual poster sessions. \nDue to circumstances outside our control the online ANGWIN workshop will postponed provisionally to September. All registrations will be considered valid\, and you will be informed of the new dates of the workshop as soon as possible. We thank you for your understanding. \n\n  \n\n 
URL:https://www.bas.ac.uk/event/5th-international-angwin-workshop/
LOCATION:Zoom
CATEGORIES:Workshop
ATTACH;FMTTYPE=image/jpeg:https://www.bas.ac.uk/wp-content/uploads/2019/02/Larsen-C-iceberg4-A68_Ali-Rose@BAS.jpg
END:VEVENT
END:VCALENDAR