BEGIN:VCALENDAR
VERSION:2.0
PRODID:-//British Antarctic Survey - ECPv6.15.20//NONSGML v1.0//EN
CALSCALE:GREGORIAN
METHOD:PUBLISH
X-WR-CALNAME:British Antarctic Survey
X-ORIGINAL-URL:https://www.bas.ac.uk
X-WR-CALDESC:Events for British Antarctic Survey
REFRESH-INTERVAL;VALUE=DURATION:PT1H
X-Robots-Tag:noindex
X-PUBLISHED-TTL:PT1H
BEGIN:VTIMEZONE
TZID:Europe/London
BEGIN:DAYLIGHT
TZOFFSETFROM:+0000
TZOFFSETTO:+0100
TZNAME:BST
DTSTART:20190331T010000
END:DAYLIGHT
BEGIN:STANDARD
TZOFFSETFROM:+0100
TZOFFSETTO:+0000
TZNAME:GMT
DTSTART:20191027T010000
END:STANDARD
BEGIN:DAYLIGHT
TZOFFSETFROM:+0000
TZOFFSETTO:+0100
TZNAME:BST
DTSTART:20200329T010000
END:DAYLIGHT
BEGIN:STANDARD
TZOFFSETFROM:+0100
TZOFFSETTO:+0000
TZNAME:GMT
DTSTART:20201025T010000
END:STANDARD
BEGIN:DAYLIGHT
TZOFFSETFROM:+0000
TZOFFSETTO:+0100
TZNAME:BST
DTSTART:20210328T010000
END:DAYLIGHT
BEGIN:STANDARD
TZOFFSETFROM:+0100
TZOFFSETTO:+0000
TZNAME:GMT
DTSTART:20211031T010000
END:STANDARD
END:VTIMEZONE
BEGIN:VEVENT
DTSTART;TZID=Europe/London:20201007T110000
DTEND;TZID=Europe/London:20201007T120000
DTSTAMP:20260424T152800
CREATED:20201001T114809Z
LAST-MODIFIED:20201001T121342Z
UID:138311-1602068400-1602072000@www.bas.ac.uk
SUMMARY:A journey through UK science as a researcher and lead investigator – a talk by Dr Karen Salt
DESCRIPTION:The Diversity in UK Polar Science team are delighted to welcome Dr Karen Salt as speaker in their next public webinar on Wednesday 7 October 2020. \n \nSpeaker Biography \nDr Karen Salt has over 26 years’ worth of experience working in and with communities\, organisations\, charities and governmental bodies\, including running non-profits and engaging in community development work. An expert on sovereignty\, power\, collective activism and systems of governance\, she has led and collaborated on a number of research projects\, many of which explore participatory democracy\, trust and collective governance. She is a former member of the Arts and Humanities Research Council Advisory Board and continues to contribute to UK and international conversations about transformational social justice and institutional change. \nDr Karen Salt will share her experiences and expertise in ‘A journey through UK science as a researcher and lead investigator’ Zoom webinar at 11:00am BST\, 7 October 2020. Followed by a Q&A session to enable further discussion. \nDiversity in UK Polar Science Initiative  \nDiversity in UK Polar Science (#DiversityinPolarScience on social media) is an initiative funded by the Foreign & Commonwealth Office\, hosted at British Antarctic Survey\, to promote and enhance polar research opportunities in the UK for all currently under-represented groups\, including women\, BAME\, LGBTQ+ and people with disabilities. Diversity in UK Polar Science will be hosting a series of online public talks to explore the challenges and achievements of people from underrepresented groups in roles linked to Polar Science\, and looking for ways to facilitate greater representation in future. \nEvent Flyer \n \nWe hope you can join us on 7 October 2020\, 11:00am BST\, at the following link: https://ukri.zoom.us/j/96524359168 \n– \nPrevious Talk ‘Diversity\, Leadership and how to bring people on the journey with you – even to Antarctica’ \nYou can re-watch the previous Diversity in UK Polar Science public talk ‘Diversity\, Leadership and how to bring people on the journey with you – even to Antarctica’ delivered by Ben Merrick\, Her Majesty’s Commissioner for the British Antarctic Territory and Director of the Overseas Territories Directorate at the Foreign & Commonwealth Office\, at the following link: https://youtu.be/No555HNUPCA \n– \nDiversity in UK Polar Science Resource Page: https://www.bas.ac.uk/project/diversity-in-uk-polar-science-initiative/diversity-in-uk-polar-science-resources/ \nDiversity in UK Polar Science Blogs: https://www.bas.ac.uk/project/diversity-in-uk-polar-science-initiative/#blog
URL:https://www.bas.ac.uk/event/a-journey-through-uk-science-as-a-researcher-and-lead-investigator-a-talk-by-dr-karen-salt/
LOCATION:https://ukri.zoom.us/j/96524359168\, Online
CATEGORIES:Public engagement,Seminar
ATTACH;FMTTYPE=image/jpeg:https://www.bas.ac.uk/wp-content/uploads/2020/10/2020-Karen-Salt-talk-flyer_600x400pix.jpg
END:VEVENT
END:VCALENDAR