BEGIN:VCALENDAR
VERSION:2.0
PRODID:-//British Antarctic Survey - ECPv6.15.20//NONSGML v1.0//EN
CALSCALE:GREGORIAN
METHOD:PUBLISH
X-ORIGINAL-URL:https://www.bas.ac.uk
X-WR-CALDESC:Events for British Antarctic Survey
REFRESH-INTERVAL;VALUE=DURATION:PT1H
X-Robots-Tag:noindex
X-PUBLISHED-TTL:PT1H
BEGIN:VTIMEZONE
TZID:Europe/London
BEGIN:DAYLIGHT
TZOFFSETFROM:+0000
TZOFFSETTO:+0100
TZNAME:BST
DTSTART:20230326T010000
END:DAYLIGHT
BEGIN:STANDARD
TZOFFSETFROM:+0100
TZOFFSETTO:+0000
TZNAME:GMT
DTSTART:20231029T010000
END:STANDARD
BEGIN:DAYLIGHT
TZOFFSETFROM:+0000
TZOFFSETTO:+0100
TZNAME:BST
DTSTART:20240331T010000
END:DAYLIGHT
BEGIN:STANDARD
TZOFFSETFROM:+0100
TZOFFSETTO:+0000
TZNAME:GMT
DTSTART:20241027T010000
END:STANDARD
BEGIN:DAYLIGHT
TZOFFSETFROM:+0000
TZOFFSETTO:+0100
TZNAME:BST
DTSTART:20250330T010000
END:DAYLIGHT
BEGIN:STANDARD
TZOFFSETFROM:+0100
TZOFFSETTO:+0000
TZNAME:GMT
DTSTART:20251026T010000
END:STANDARD
BEGIN:DAYLIGHT
TZOFFSETFROM:+0000
TZOFFSETTO:+0100
TZNAME:BST
DTSTART:20260329T010000
END:DAYLIGHT
BEGIN:STANDARD
TZOFFSETFROM:+0100
TZOFFSETTO:+0000
TZNAME:GMT
DTSTART:20261025T010000
END:STANDARD
BEGIN:DAYLIGHT
TZOFFSETFROM:+0000
TZOFFSETTO:+0100
TZNAME:BST
DTSTART:20270328T010000
END:DAYLIGHT
BEGIN:STANDARD
TZOFFSETFROM:+0100
TZOFFSETTO:+0000
TZNAME:GMT
DTSTART:20271031T010000
END:STANDARD
END:VTIMEZONE
BEGIN:VEVENT
DTSTART;TZID=Europe/London:20240719T073000
DTEND;TZID=Europe/London:20240721T193000
DTSTAMP:20260425T113853
CREATED:20240503T144340Z
LAST-MODIFIED:20240503T144340Z
UID:162246-1721374200-1721590200@www.bas.ac.uk
SUMMARY:British Antarctic Survey at The Royal International Air Tattoo
DESCRIPTION:Join the British Antarctic Survey (BAS) as we soar into this year’s Royal International Air Tattoo (RIAT) and get an up-close encounter with one of our Twin Otter aircraft\, essential for our pioneering scientific endeavours in Antarctica and beyond! \nMore than just an air show\, this three-day extravaganza at Fairford in the picturesque Cotswolds promises to be a sensory delight. A lively and family-friendly affair\, you’ll be treated to the thunderous spectacle of aircraft overhead and the jubilant cheers of spectators\, with an impressive 18 hours of breath-taking flying displays and a myriad of aircraft from 25 nations on display. \nCome and marvel at our distinctive Twin Otter aircraft\, equipped and primed for Antarctic missions. Chat to our pilots and scientists involved in airborne scientific projects and seize the opportunity to learn about the challenges of conducting research in some of the harshest environments on the planet. \nThe Twin Otter fitted with skis for landing on ice in Antarctica. Photo: Adam Bradley \nBAS operates four Twin Otters\, which form the backbone of our operations. In a typical season\, they log approximately 1300 hours of flight time in Antarctica\, supporting fifteen scientific field projects. They transport scientists to their field sites\, resupply them\, or relocate them during the season\, and then safely return the team to Antarctic research stations upon completion of their projects. \nThe BAS Twin Otter aircraft are crucial for operating deep field scientific research in Antarctica. Photo: Morag Hunter \nThe Royal International Air Tattoo takes place from 19-21 July 2024 at RAF Fairford\, Gloucestershire \nTo book your tickets\, visit the RIAT website
URL:https://www.bas.ac.uk/event/british-antarctic-survey-at-the-royal-international-air-tattoo/
LOCATION:RAF Fairford\, RAF Fairford\, Fairford\, Gloucestershire\, GL7 4EG\, United Kingdom
CATEGORIES:Public engagement
ATTACH;FMTTYPE=image/jpeg:https://www.bas.ac.uk/wp-content/uploads/2016/07/b9718a9770d10acd0bf8979d036fbc7f_1469782588.jpg
END:VEVENT
BEGIN:VEVENT
DTSTART;TZID=Europe/London:20241012T100000
DTEND;TZID=Europe/London:20241012T160000
DTSTAMP:20260425T113853
CREATED:20241007T092539Z
LAST-MODIFIED:20241007T092539Z
UID:164003-1728727200-1728748800@www.bas.ac.uk
SUMMARY:British Antarctic Survey at Big Biology Day\, Cambridge
DESCRIPTION:On Saturday 12 October join British Antarctic Survey for Big Biology Day held at Hills Road Sixth Form College in Cambridge. \nHosted by Cambridge Biologists\, Big Biology Day is the largest free-to-attend festival in the UK exclusively dedicated to the biological sciences. \n \nThis is a chance to get an up-close and personal experience with biology and to meet and interact with scientists. \nCome along and talk to our experts as they share insights about life and research in Antarctica\, shedding light on how animals and plants survive in extreme conditions and the challenges that lie ahead in the future. \nHave you ever wondered what it might be like to embark on a career as a polar researcher or to work in Antarctica? This is your opportunity to talk to our team about careers in science. \nPlease be aware that parking is unavailable at the college\, but you don’t need to buy a ticket or pre-book this event—simply show up and enjoy the day! \nTo find out more visit Big Biology Day
URL:https://www.bas.ac.uk/event/british-antarctic-survey-at-big-biology-day-cambridge-2/
LOCATION:Hills Road Sixth Form\, Hills Road\, Cambridge\, CB2 8PE\, United Kingdom
CATEGORIES:Exhibition,Public engagement
ATTACH;FMTTYPE=image/jpeg:https://www.bas.ac.uk/wp-content/uploads/2023/09/thumbnail.jpg
END:VEVENT
BEGIN:VEVENT
DTSTART;TZID=Europe/London:20241112T090000
DTEND;TZID=Europe/London:20241112T163000
DTSTAMP:20260425T113853
CREATED:20241030T152123Z
LAST-MODIFIED:20241030T152123Z
UID:164505-1731402000-1731429000@www.bas.ac.uk
SUMMARY:Protecting our planet day 2024
DESCRIPTION:Have you got your ticket to Antarctica? This is a unique chance for you to have your name sent to Antarctica in a time capsule and follow the voyage to the ice on the RRS Sir David Attenborough. Sign up and receive weekly interactive email updates packed with stories and activities along the way.  \nAs part of the adventure\, we will now be offering the chance to join Protecting Our Planet Day (POP24)\, an engaging live-streamed event tailored for schools on November 12.  \nThe full-day program features live link-up sessions with inspiring experts dedicated to addressing climate change and is brought to you by STEM Learning in collaboration with the European Space Agency and the UK Space Agency. \n \nBritish Antarctic Survey will be taking part in the ‘Protecting Our Ice’ session\, scheduled from 10:15 to 10:35 am. This captivating live link-up for secondary school children\, will connect you with our scientists aboard the RRS Sir David Attenborough and at the Rothera Research station in Antarctica. \nDiscover the state-of-the-art facilities on the research vessel\, enabling scientists to explore the oceans\, seafloor\, ice\, and atmosphere. Gain insights into the daily lives and work of our divers at Rothera and understand the vital role polar regions play in advancing our knowledge of the oceans\, marine life\, and the climate system. \nFor more details and to register for these sessions\, visit the POP24 website. Choose to sign up for the entire day or simply drop in for the sessions with your class or the whole school! \nFor more information on how to sign up for Ticket to Antarctica\, visit the website. \n 
URL:https://www.bas.ac.uk/event/protecting-our-planet-day-2024/
CATEGORIES:Public engagement
ATTACH;FMTTYPE=image/jpeg:https://www.bas.ac.uk/wp-content/uploads/2017/12/goes_east-1.jpeg
END:VEVENT
BEGIN:VEVENT
DTSTART;TZID=Europe/London:20241218T183000
DTEND;TZID=Europe/London:20241218T220000
DTSTAMP:20260425T113853
CREATED:20241203T115138Z
LAST-MODIFIED:20241204T141731Z
UID:165118-1734546600-1734559200@www.bas.ac.uk
SUMMARY:British Antarctic Survey at the Science Museum Christmas Lates
DESCRIPTION:The British Antarctic Survey invites you to join us at the Science Museum Christmas Lates. The halls will be decked for a festive celebration of science\, technology\, engineering and maths that makes this season truly magical! \nChat with BAS scientists about their fascinating experiences conducting research in the icy extremes of the polar regions. Step inside our cosy polar tent\, try on authentic polar gear\, and discover what’s on the menu for scientists working in the field. \nCamping in Antarctica \n  \nImmerse yourself in the diverse and extraordinary sounds of Antarctica. Listen to The Seventh Continent\, a captivating new album blending stunning original music with field recordings from one of BAS’s 2023 science missions. \nHear the rumble of the RRS Sir David Attenborough at sea\, the echoes of an inlet near the world’s largest iceberg\, and the enchanting calls of elephant seals and skuas. \nGet ready to eat\, drink\, and be merry at the Science Museum’s very first festive edition of Lates. We can’t wait to see you there! \nAge: 18+. \nGeneral admission is free. VIP tickets are £12.
URL:https://www.bas.ac.uk/event/british-antarctic-survey-at-the-science-museum-christmas-lates/
LOCATION:Science Museum\, Exhibition Road\, London\, SW7 2DD\, United Kingdom
CATEGORIES:Exhibition,Public engagement
ATTACH;FMTTYPE=image/jpeg:https://www.bas.ac.uk/wp-content/uploads/2015/07/iSTAR-D-10009331.jpg
END:VEVENT
BEGIN:VEVENT
DTSTART;TZID=Europe/London:20250329T133000
DTEND;TZID=Europe/London:20250329T143000
DTSTAMP:20260425T113853
CREATED:20250227T161600Z
LAST-MODIFIED:20250227T161600Z
UID:166383-1743255000-1743258600@www.bas.ac.uk
SUMMARY:Join us for an 'Antarctic Adventure' - A family talk by a polar scientist at Cambridge Festival 2025
DESCRIPTION:Come along to ‘Antarctic Adventure – Explore the Frozen Frontier’ – a talk aimed at anyone over 7 years old by British Antarctic Survey polar scientist Kate Hendry and marine biologist Dr Helen Scales. \nDive into an amazing Antarctic adventure to one of the most remote and challenging environments on Earth.  Kate and Helen will show you how science is done around the icy continent of Antarctica. You’ll get the chance to discover incredible wildlife\, help build an Antarctic food web\, study giant sea spiders\, listen to singing seals and find out why Antarctica is so important for the rest of the planet. \n \nThis talk is free to attend and aimed at ages 7 + – We look forward to seeing you there! \n  \nThis talk is part of Cambridge Festival 2025 which takes place from 19 March to 4 April. The festival will run a series of events highlighting world-leading research happening at Cambridge. For a full round of events please visit the Cambridge Festival website. \n  \n  \n 
URL:https://www.bas.ac.uk/event/join-us-for-an-antarctic-adventure-a-family-talk-by-a-polar-scientist-at-cambridge-festival-2025/
LOCATION:Cockcroft Lecture Theatre\, (through the Pembroke Archway)\, Pembroke St\, Cambridge\, Cambridgeshire\, CB2 3QY\, United Kingdom
CATEGORIES:Public engagement
ATTACH;FMTTYPE=image/png:https://www.bas.ac.uk/wp-content/uploads/2025/02/illustration_seals-and-SDA.png
END:VEVENT
BEGIN:VEVENT
DTSTART;TZID=Europe/London:20260328T100000
DTEND;TZID=Europe/London:20260328T150000
DTSTAMP:20260425T113853
CREATED:20260325T162615Z
LAST-MODIFIED:20260325T163528Z
UID:191601-1774692000-1774710000@www.bas.ac.uk
SUMMARY:Pop into the Polar Museum
DESCRIPTION:As part of this year’s Cambridge Festival\, why not drop into the Polar Museum in the heart of the city and enjoy a full day of ice-themed activities? \nMeet artist Rowan Huntley and take the opportunity to talk with her about her work featured in the Through Ice and Fire exhibition. You’ll also be able to get hands-on with samples from her research and artistic experiments\, offering a unique insight into her creative process. \nBritish Antarctic Survey will have a field tent on display\, giving you the chance to step inside and experience what it’s like to live and work in extreme polar conditions. Try on authentic polar clothing worn by researchers during field trips in remote parts of Antarctica and learn more about what it takes to survive in such a harsh\, icy environment. \nYou can also explore the museum’s fascinating collection\, with opportunities to handle objects connected to geology and scientific research in the polar regions across history. Chat with knowledgeable staff and volunteers as you examine geology samples and scientific equipment up close.
URL:https://www.bas.ac.uk/event/pop-into-the-polar-museum/
LOCATION:Scott Polar Research Institute\, Cambridge\, CB2 1EP\, GB
CATEGORIES:Exhibition,Public engagement
ATTACH;FMTTYPE=image/jpeg:https://www.bas.ac.uk/wp-content/uploads/2026/03/Aircraft-and-field-camp-scaled.jpg
END:VEVENT
END:VCALENDAR